BEGIN:VCALENDAR
VERSION:2.0
BEGIN:VEVENT
URL:https://plp.org.tl/membru/events/viewevent/10-kampana-plp-iha-uatu-carbau-viqueque 
DTSTART:20170621T140000
DTEND:20170621T180000
SUMMARY:Kampaña PLP iha Uatu Carbau, Viqueque
DESCRIPTION:
LOCATION:Uatu Carbau, Viqueque
END:VEVENT
END:VCALENDAR