BEGIN:VCALENDAR
VERSION:2.0
BEGIN:VEVENT
URL:https://plp.org.tl/membru/events/viewevent/13-kampana-plp-iha-natarbora-manatuto 
DTSTART:20170621T140000
DTEND:20170621T153000
SUMMARY:Kampaña PLP iha Natarbora, Manatuto
DESCRIPTION:
LOCATION:Natarbora, Manatuto
END:VEVENT
END:VCALENDAR