BEGIN:VCALENDAR
VERSION:2.0
BEGIN:VEVENT
URL:https://plp.org.tl/membru/events/viewevent/14-kampana-plp-iha-alas-manufahi 
DTSTART:20170623T170000
DTEND:20170623T180000
SUMMARY:Kampaña PLP iha Alas, Manufahi
DESCRIPTION:
LOCATION:Alas, Manufahi
END:VEVENT
END:VCALENDAR