BEGIN:VCALENDAR
VERSION:2.0
BEGIN:VEVENT
URL:https://plp.org.tl/membru/events/viewevent/15-kampana-plp-iha-same-vila-manufahi 
DTSTART:20170624T103000
DTEND:20170624T224500
SUMMARY:Kampaña PLP iha Same Vila, Manufahi
DESCRIPTION:
LOCATION:Same Vila, Manufahi
END:VEVENT
END:VCALENDAR