BEGIN:VCALENDAR
VERSION:2.0
BEGIN:VEVENT
URL:https://plp.org.tl/membru/events/viewevent/17-kampana-plp-elpar2017-iha-suco-ponilala-ermera 
DTSTART:20170629T153000
DTEND:20170629T180000
SUMMARY:Kampaña PLP #ElPar2017 iha Suco Ponilala, Ermera
DESCRIPTION:
LOCATION:Suco Ponilala Lisabat, Ermera
END:VEVENT
END:VCALENDAR