BEGIN:VCALENDAR
VERSION:2.0
BEGIN:VEVENT
URL:https://plp.org.tl/membru/events/viewevent/18-kampana-plp-elpar2017-iha-vila-kota-lama-ermera 
DTSTART:20170630T143000
DTEND:20170630T173000
SUMMARY:Kampaña PLP #ElPar2017 iha Vila Kota Lama, Ermera
DESCRIPTION:
LOCATION:Vila Kota Lama, Ermera
END:VEVENT
END:VCALENDAR