BEGIN:VCALENDAR
VERSION:2.0
BEGIN:VEVENT
URL:https://plp.org.tl/membru/events/viewevent/9-kampana-plp-iha-uatulari-viqueque 
DTSTART:20170622T100000
DTEND:20170622T113000
SUMMARY:Kampaña PLP iha Uatulari, Viqueque
DESCRIPTION:
LOCATION:Naedala, Uatu Carbau, Viqueque
END:VEVENT
END:VCALENDAR